BEGIN:VCALENDAR
VERSION:2.0
PRODID:-//Horizon RH - ECPv6.8.2//NONSGML v1.0//EN
CALSCALE:GREGORIAN
METHOD:PUBLISH
X-WR-CALNAME:Horizon RH
X-ORIGINAL-URL:https://www.horizonrh.ma
X-WR-CALDESC:Évènements pour Horizon RH
REFRESH-INTERVAL;VALUE=DURATION:PT1H
X-Robots-Tag:noindex
X-PUBLISHED-TTL:PT1H
BEGIN:VTIMEZONE
TZID:Africa/Casablanca
BEGIN:STANDARD
TZOFFSETFROM:+0100
TZOFFSETTO:+0000
TZNAME:+00
DTSTART:20230319T020000
END:STANDARD
BEGIN:DAYLIGHT
TZOFFSETFROM:+0000
TZOFFSETTO:+0100
TZNAME:+01
DTSTART:20230423T020000
END:DAYLIGHT
END:VTIMEZONE
BEGIN:VEVENT
DTSTART;VALUE=DATE:20231104
DTEND;VALUE=DATE:20231106
DTSTAMP:20260422T080319
CREATED:20220804T155008Z
LAST-MODIFIED:20241014T144520Z
UID:5311-1699056000-1699228799@www.horizonrh.ma
SUMMARY:Cycle Praticien PNL
DESCRIPTION:vous initiera aux techniques puissantes de la Programmation Neuro-Linguistique. Ces compétences vous permettront de communiquer efficacement\, maîtriser des techniques d’amélioration et de changement pour développer votre leadership\, et développer des stratégies d’excellence et de motivation afin de les transposer dans votre quotidien personnel et professionnel. \nN’hésitez pas à nous contacter directement au 06 61 24 66 47.
URL:https://www.horizonrh.ma/event/cycle-horizon-coaching-pro/
LOCATION:Tanger\, Morocco
CATEGORIES:Cycles
END:VEVENT
END:VCALENDAR