BEGIN:VCALENDAR
VERSION:2.0
PRODID:-//Horizon RH - ECPv6.8.2//NONSGML v1.0//EN
CALSCALE:GREGORIAN
METHOD:PUBLISH
X-ORIGINAL-URL:https://www.horizonrh.ma
X-WR-CALDESC:Évènements pour Horizon RH
REFRESH-INTERVAL;VALUE=DURATION:PT1H
X-Robots-Tag:noindex
X-PUBLISHED-TTL:PT1H
BEGIN:VTIMEZONE
TZID:Africa/Casablanca
BEGIN:STANDARD
TZOFFSETFROM:+0100
TZOFFSETTO:+0000
TZNAME:+00
DTSTART:20240310T020000
END:STANDARD
BEGIN:DAYLIGHT
TZOFFSETFROM:+0000
TZOFFSETTO:+0100
TZNAME:+01
DTSTART:20240414T020000
END:DAYLIGHT
END:VTIMEZONE
BEGIN:VEVENT
DTSTART;VALUE=DATE:20241109
DTEND;VALUE=DATE:20241111
DTSTAMP:20260421T110014
CREATED:20241014T143710Z
LAST-MODIFIED:20241014T144515Z
UID:5683-1731110400-1731283199@www.horizonrh.ma
SUMMARY:CYCLE ENNEAGRAMME
DESCRIPTION:La Voie de l’équilibre entre ses propres forces et résistances. \nVous vous posez sûrement ce type de questions : \n\nQuelles sont les raisons cachées derrière mes comportements ?\nQuelle est vraiment et réellement ma Motivation ?\nComment puis-je transformer mes blessures en forces ?\nQuel est le sens que je donne à ma vie ?\nSuis-je connecté à mes valeurs ?\nComment puis-je me libérer de mes automatismes pour devenir autonome ?\nComment comprendre l’autre et entrer en relation avec lui ?\n\nDétail
URL:https://www.horizonrh.ma/event/cycle-enneagramme/
LOCATION:Tanger\, Morocco
CATEGORIES:Cycles
END:VEVENT
BEGIN:VEVENT
DTSTART;VALUE=DATE:20241122
DTEND;VALUE=DATE:20241123
DTSTAMP:20260421T110014
CREATED:20241014T141124Z
LAST-MODIFIED:20241014T144509Z
UID:5676-1732233600-1732319999@www.horizonrh.ma
SUMMARY:CYCLE COACHING PERSONNEL ET PROFESSIONNEL
DESCRIPTION:Et si vous devenez la main qui accompagne les individus et les organisations vers leur plein potentiel ? \nCela commence par votre propre développement personnel ! \nDEMARRAGE LE 22-23-24 NOVEMBRE 2024 \nVoici notre offre :\n\nUne année de transformation par excellence !\nEn 6 séminaires (19 jours en présentiel)\,\n220 heures de formation synchrones et asynchrones\,\nDes coachs- Formateurs et des psychologues cliniciens chevronnés\,\nCycle conforme aux standards de l’International Coach Federation (ICF)\,\nSpécialisation au niveau Master\,\nAccompagnement vers la certification ICF.\n\nDetail
URL:https://www.horizonrh.ma/event/cycle-coaching-personnel-et-professionnel/
LOCATION:Tanger\, Morocco
CATEGORIES:Cycles
END:VEVENT
END:VCALENDAR